BEGIN:VCALENDAR
VERSION:2.0
PRODID:-//Great &amp; Little Chishill - ECPv6.15.20//NONSGML v1.0//EN
CALSCALE:GREGORIAN
METHOD:PUBLISH
X-ORIGINAL-URL:https://greatchishill.org.uk
X-WR-CALDESC:Events for Great &amp; Little Chishill
REFRESH-INTERVAL;VALUE=DURATION:PT1H
X-Robots-Tag:noindex
X-PUBLISHED-TTL:PT1H
BEGIN:VTIMEZONE
TZID:Europe/London
BEGIN:DAYLIGHT
TZOFFSETFROM:+0000
TZOFFSETTO:+0100
TZNAME:BST
DTSTART:20240331T010000
END:DAYLIGHT
BEGIN:STANDARD
TZOFFSETFROM:+0100
TZOFFSETTO:+0000
TZNAME:GMT
DTSTART:20241027T010000
END:STANDARD
BEGIN:DAYLIGHT
TZOFFSETFROM:+0000
TZOFFSETTO:+0100
TZNAME:BST
DTSTART:20250330T010000
END:DAYLIGHT
BEGIN:STANDARD
TZOFFSETFROM:+0100
TZOFFSETTO:+0000
TZNAME:GMT
DTSTART:20251026T010000
END:STANDARD
BEGIN:DAYLIGHT
TZOFFSETFROM:+0000
TZOFFSETTO:+0100
TZNAME:BST
DTSTART:20260329T010000
END:DAYLIGHT
BEGIN:STANDARD
TZOFFSETFROM:+0100
TZOFFSETTO:+0000
TZNAME:GMT
DTSTART:20261025T010000
END:STANDARD
END:VTIMEZONE
BEGIN:VEVENT
DTSTART;TZID=Europe/London:20250711T191500
DTEND;TZID=Europe/London:20250711T230000
DTSTAMP:20260421T093359
CREATED:20250610T110013Z
LAST-MODIFIED:20250610T140305Z
UID:10000002-1752261300-1752274800@greatchishill.org.uk
SUMMARY:Summer Barn Dance
DESCRIPTION:For the fourth year running\, Cambridge University Ceilidh Band will be LIVE in Great Chishill Village Hall for a Summer Barn Dance\, helping to raise money to support the bells of St Swithun’s. \nThe previous events have always been a great success with tickets in high demand so get yours as soon as possible from Helen Whitehead white.night@btinternet.com. \nTickets are £20 per adult – accompanied children are FREE. With the live band\, hot dogs\, curry\, licensed bar and outdoor games included in the ticket price and a visit from an ice cream van\, it will be an evening to remember for all ages. \nEven if you don’t want to dance (all dances explained at the time)\, the music is supplied by superb musicians and good just to listen to.
URL:https://greatchishill.org.uk/event/summer-barn-dance/
LOCATION:Great Chishill Village Hall\, Hall Lane\, Great Chishill\, Royston\, SG8 8SH\, United Kingdom
ATTACH;FMTTYPE=image/jpeg:https://greatchishill.org.uk/wp-content/uploads/2025/06/Ceilidh2025.jpg
END:VEVENT
END:VCALENDAR