BEGIN:VCALENDAR
VERSION:2.0
PRODID:-//Great &amp; Little Chishill - ECPv6.15.20//NONSGML v1.0//EN
CALSCALE:GREGORIAN
METHOD:PUBLISH
X-WR-CALNAME:Great &amp; Little Chishill
X-ORIGINAL-URL:https://greatchishill.org.uk
X-WR-CALDESC:Events for Great &amp; Little Chishill
REFRESH-INTERVAL;VALUE=DURATION:PT1H
X-Robots-Tag:noindex
X-PUBLISHED-TTL:PT1H
BEGIN:VTIMEZONE
TZID:Europe/London
BEGIN:DAYLIGHT
TZOFFSETFROM:+0000
TZOFFSETTO:+0100
TZNAME:BST
DTSTART:20250330T010000
END:DAYLIGHT
BEGIN:STANDARD
TZOFFSETFROM:+0100
TZOFFSETTO:+0000
TZNAME:GMT
DTSTART:20251026T010000
END:STANDARD
BEGIN:DAYLIGHT
TZOFFSETFROM:+0000
TZOFFSETTO:+0100
TZNAME:BST
DTSTART:20260329T010000
END:DAYLIGHT
BEGIN:STANDARD
TZOFFSETFROM:+0100
TZOFFSETTO:+0000
TZNAME:GMT
DTSTART:20261025T010000
END:STANDARD
BEGIN:DAYLIGHT
TZOFFSETFROM:+0000
TZOFFSETTO:+0100
TZNAME:BST
DTSTART:20270328T010000
END:DAYLIGHT
BEGIN:STANDARD
TZOFFSETFROM:+0100
TZOFFSETTO:+0000
TZNAME:GMT
DTSTART:20271031T010000
END:STANDARD
END:VTIMEZONE
BEGIN:VEVENT
DTSTART;VALUE=DATE:20260214
DTEND;VALUE=DATE:20260215
DTSTAMP:20260420T124548
CREATED:20251220T114708Z
LAST-MODIFIED:20251220T114708Z
UID:10000357-1771027200-1771113599@greatchishill.org.uk
SUMMARY:Snowdrop viewing in aid of Great Chishill Windmill
DESCRIPTION:Thanks to the generosity of the owner\, we are fortunate in being offered the chance to visit again this 12 acre estate sewn with thousands of snowdrops.  There is free parking and refreshments available.  Donations welcomed. \nFor details on the venue\, please contact info@greatchishillwindmill.com
URL:https://greatchishill.org.uk/event/snowdrop-viewing-in-aid-of-great-chishill-windmill/
CATEGORIES:Windmill
ATTACH;FMTTYPE=image/jpeg:https://greatchishill.org.uk/wp-content/uploads/2025/12/Snowdrop-flyer-2-scaled.jpg
END:VEVENT
END:VCALENDAR