BEGIN:VCALENDAR
VERSION:2.0
PRODID:-//Great &amp; Little Chishill - ECPv6.15.20//NONSGML v1.0//EN
CALSCALE:GREGORIAN
METHOD:PUBLISH
X-ORIGINAL-URL:https://greatchishill.org.uk
X-WR-CALDESC:Events for Great &amp; Little Chishill
REFRESH-INTERVAL;VALUE=DURATION:PT1H
X-Robots-Tag:noindex
X-PUBLISHED-TTL:PT1H
BEGIN:VTIMEZONE
TZID:Europe/London
BEGIN:DAYLIGHT
TZOFFSETFROM:+0000
TZOFFSETTO:+0100
TZNAME:BST
DTSTART:20250330T010000
END:DAYLIGHT
BEGIN:STANDARD
TZOFFSETFROM:+0100
TZOFFSETTO:+0000
TZNAME:GMT
DTSTART:20251026T010000
END:STANDARD
BEGIN:DAYLIGHT
TZOFFSETFROM:+0000
TZOFFSETTO:+0100
TZNAME:BST
DTSTART:20260329T010000
END:DAYLIGHT
BEGIN:STANDARD
TZOFFSETFROM:+0100
TZOFFSETTO:+0000
TZNAME:GMT
DTSTART:20261025T010000
END:STANDARD
BEGIN:DAYLIGHT
TZOFFSETFROM:+0000
TZOFFSETTO:+0100
TZNAME:BST
DTSTART:20270328T010000
END:DAYLIGHT
BEGIN:STANDARD
TZOFFSETFROM:+0100
TZOFFSETTO:+0000
TZNAME:GMT
DTSTART:20271031T010000
END:STANDARD
END:VTIMEZONE
BEGIN:VEVENT
DTSTART;TZID=Europe/London:20260321T100000
DTEND;TZID=Europe/London:20260321T160000
DTSTAMP:20260420T131215
CREATED:20251220T113906Z
LAST-MODIFIED:20260209T135536Z
UID:10000354-1774087200-1774108800@greatchishill.org.uk
SUMMARY:Spring Craft Fair
DESCRIPTION:Refreshments\, hand bells\, stalls.  If you’d like a stall\, please contact Lindsey on 01763 838897
URL:https://greatchishill.org.uk/event/spring-craft-fair/
LOCATION:Great Chishill Village Hall\, Hall Lane\, Great Chishill\, Royston\, SG8 8SH\, United Kingdom
CATEGORIES:Windmill
ATTACH;FMTTYPE=image/jpeg:https://greatchishill.org.uk/wp-content/uploads/2025/11/Spring-Fair-Flyer-2-scaled.jpg
END:VEVENT
BEGIN:VEVENT
DTSTART;TZID=Europe/London:20260321T190000
DTEND;TZID=Europe/London:20260321T233000
DTSTAMP:20260420T131215
CREATED:20251220T114014Z
LAST-MODIFIED:20260209T135821Z
UID:10000355-1774119600-1774135800@greatchishill.org.uk
SUMMARY:Dancing to The Elderlys for the Windmill
DESCRIPTION:Dancing to The Elderlys.  £10 per person\, including a Chilli supper.  Pay bar. \nGet your tickets from info@greatchishillwindmill.com\, or call 01763 838044 in advance by 14 March 2026.
URL:https://greatchishill.org.uk/event/spring-evening-entertainment/
LOCATION:Great Chishill Village Hall\, Hall Lane\, Great Chishill\, Royston\, SG8 8SH\, United Kingdom
CATEGORIES:Windmill
END:VEVENT
BEGIN:VEVENT
DTSTART;TZID=Europe/London:20260322T090000
DTEND;TZID=Europe/London:20260322T130000
DTSTAMP:20260420T131215
CREATED:20251220T114230Z
LAST-MODIFIED:20260209T140009Z
UID:10000356-1774170000-1774184400@greatchishill.org.uk
SUMMARY:Windmill Marmalade Breakfast
DESCRIPTION:The winner of the marmalade competition will be announced. \nLive Music \nPhotography competition winners \nPlans for the windmill future \nRefreshments\, including bacon and veggie rolls\, teas and coffees will be available.
URL:https://greatchishill.org.uk/event/windmill-marmalade-breakfast/
LOCATION:Great Chishill Village Hall\, Hall Lane\, Great Chishill\, Royston\, SG8 8SH\, United Kingdom
CATEGORIES:Windmill
END:VEVENT
END:VCALENDAR