BEGIN:VCALENDAR
VERSION:2.0
PRODID:-//Great &amp; Little Chishill - ECPv6.15.20//NONSGML v1.0//EN
CALSCALE:GREGORIAN
METHOD:PUBLISH
X-WR-CALNAME:Great &amp; Little Chishill
X-ORIGINAL-URL:https://greatchishill.org.uk
X-WR-CALDESC:Events for Great &amp; Little Chishill
REFRESH-INTERVAL;VALUE=DURATION:PT1H
X-Robots-Tag:noindex
X-PUBLISHED-TTL:PT1H
BEGIN:VTIMEZONE
TZID:Europe/London
BEGIN:DAYLIGHT
TZOFFSETFROM:+0000
TZOFFSETTO:+0100
TZNAME:BST
DTSTART:20240331T010000
END:DAYLIGHT
BEGIN:STANDARD
TZOFFSETFROM:+0100
TZOFFSETTO:+0000
TZNAME:GMT
DTSTART:20241027T010000
END:STANDARD
BEGIN:DAYLIGHT
TZOFFSETFROM:+0000
TZOFFSETTO:+0100
TZNAME:BST
DTSTART:20250330T010000
END:DAYLIGHT
BEGIN:STANDARD
TZOFFSETFROM:+0100
TZOFFSETTO:+0000
TZNAME:GMT
DTSTART:20251026T010000
END:STANDARD
BEGIN:DAYLIGHT
TZOFFSETFROM:+0000
TZOFFSETTO:+0100
TZNAME:BST
DTSTART:20260329T010000
END:DAYLIGHT
BEGIN:STANDARD
TZOFFSETFROM:+0100
TZOFFSETTO:+0000
TZNAME:GMT
DTSTART:20261025T010000
END:STANDARD
END:VTIMEZONE
BEGIN:VEVENT
DTSTART;TZID=Europe/London:20250718T200000
DTEND;TZID=Europe/London:20250718T230000
DTSTAMP:20260420T172613
CREATED:20250612T134218Z
LAST-MODIFIED:20250612T134239Z
UID:10000003-1752868800-1752879600@greatchishill.org.uk
SUMMARY:July Wine Circle
DESCRIPTION:At Claire and Scott Lucas’s\, Barley Road \nNo invite needed.  Just bring a bottle of wine (anything you would be willing to drink!).
URL:https://greatchishill.org.uk/event/july-wine-circle/
CATEGORIES:Wine Circle
END:VEVENT
END:VCALENDAR