BEGIN:VCALENDAR
VERSION:2.0
PRODID:-//Great &amp; Little Chishill - ECPv6.15.20//NONSGML v1.0//EN
CALSCALE:GREGORIAN
METHOD:PUBLISH
X-WR-CALNAME:Great &amp; Little Chishill
X-ORIGINAL-URL:https://greatchishill.org.uk
X-WR-CALDESC:Events for Great &amp; Little Chishill
REFRESH-INTERVAL;VALUE=DURATION:PT1H
X-Robots-Tag:noindex
X-PUBLISHED-TTL:PT1H
BEGIN:VTIMEZONE
TZID:Europe/London
BEGIN:DAYLIGHT
TZOFFSETFROM:+0000
TZOFFSETTO:+0100
TZNAME:BST
DTSTART:20240331T010000
END:DAYLIGHT
BEGIN:STANDARD
TZOFFSETFROM:+0100
TZOFFSETTO:+0000
TZNAME:GMT
DTSTART:20241027T010000
END:STANDARD
BEGIN:DAYLIGHT
TZOFFSETFROM:+0000
TZOFFSETTO:+0100
TZNAME:BST
DTSTART:20250330T010000
END:DAYLIGHT
BEGIN:STANDARD
TZOFFSETFROM:+0100
TZOFFSETTO:+0000
TZNAME:GMT
DTSTART:20251026T010000
END:STANDARD
BEGIN:DAYLIGHT
TZOFFSETFROM:+0000
TZOFFSETTO:+0100
TZNAME:BST
DTSTART:20260329T010000
END:DAYLIGHT
BEGIN:STANDARD
TZOFFSETFROM:+0100
TZOFFSETTO:+0000
TZNAME:GMT
DTSTART:20261025T010000
END:STANDARD
BEGIN:DAYLIGHT
TZOFFSETFROM:+0000
TZOFFSETTO:+0100
TZNAME:BST
DTSTART:20270328T010000
END:DAYLIGHT
BEGIN:STANDARD
TZOFFSETFROM:+0100
TZOFFSETTO:+0000
TZNAME:GMT
DTSTART:20271031T010000
END:STANDARD
END:VTIMEZONE
BEGIN:VEVENT
DTSTART;TZID=Europe/London:20260317T190000
DTEND;TZID=Europe/London:20260317T210000
DTSTAMP:20260421T173843
CREATED:20250820T140250Z
LAST-MODIFIED:20250820T140436Z
UID:10000223-1773774000-1773781200@greatchishill.org.uk
SUMMARY:Women's Institute monthly meeting
DESCRIPTION:
URL:https://greatchishill.org.uk/event/womens-institute-monthly-meeting/2026-03-17/
LOCATION:Great Chishill Village Hall\, Hall Lane\, Great Chishill\, Royston\, SG8 8SH\, United Kingdom
ORGANIZER;CN="Women's Institute":MAILTO:alisonwhite@sheepythings.com
END:VEVENT
BEGIN:VEVENT
DTSTART;TZID=Europe/London:20260217T190000
DTEND;TZID=Europe/London:20260217T210000
DTSTAMP:20260421T173843
CREATED:20250820T140250Z
LAST-MODIFIED:20250820T140436Z
UID:10000222-1771354800-1771362000@greatchishill.org.uk
SUMMARY:Women's Institute monthly meeting
DESCRIPTION:
URL:https://greatchishill.org.uk/event/womens-institute-monthly-meeting/2026-02-17/
LOCATION:Great Chishill Village Hall\, Hall Lane\, Great Chishill\, Royston\, SG8 8SH\, United Kingdom
ORGANIZER;CN="Women's Institute":MAILTO:alisonwhite@sheepythings.com
END:VEVENT
BEGIN:VEVENT
DTSTART;TZID=Europe/London:20260120T190000
DTEND;TZID=Europe/London:20260120T210000
DTSTAMP:20260421T173843
CREATED:20250820T140250Z
LAST-MODIFIED:20250820T140436Z
UID:10000221-1768935600-1768942800@greatchishill.org.uk
SUMMARY:Women's Institute monthly meeting
DESCRIPTION:
URL:https://greatchishill.org.uk/event/womens-institute-monthly-meeting/2026-01-20/
LOCATION:Great Chishill Village Hall\, Hall Lane\, Great Chishill\, Royston\, SG8 8SH\, United Kingdom
ORGANIZER;CN="Women's Institute":MAILTO:alisonwhite@sheepythings.com
END:VEVENT
BEGIN:VEVENT
DTSTART;TZID=Europe/London:20251216T190000
DTEND;TZID=Europe/London:20251216T210000
DTSTAMP:20260421T173843
CREATED:20250820T140250Z
LAST-MODIFIED:20250820T140436Z
UID:10000220-1765911600-1765918800@greatchishill.org.uk
SUMMARY:Women's Institute monthly meeting
DESCRIPTION:
URL:https://greatchishill.org.uk/event/womens-institute-monthly-meeting/2025-12-16/
LOCATION:Great Chishill Village Hall\, Hall Lane\, Great Chishill\, Royston\, SG8 8SH\, United Kingdom
ORGANIZER;CN="Women's Institute":MAILTO:alisonwhite@sheepythings.com
END:VEVENT
BEGIN:VEVENT
DTSTART;TZID=Europe/London:20251130T140000
DTEND;TZID=Europe/London:20251130T160000
DTSTAMP:20260421T173843
CREATED:20251119T072739Z
LAST-MODIFIED:20251119T072739Z
UID:10000286-1764511200-1764518400@greatchishill.org.uk
SUMMARY:Festive Wreath Workshop
DESCRIPTION:Join the WI for a festive wreath making workshop to get your ready for Christmas.  All materials supplied\, but please bring your own secateurs. \nTo book contact Alison White\, alisonwhite@sheepythings.com.
URL:https://greatchishill.org.uk/event/festive-wreath-workshop/
LOCATION:Great Chishill Village Hall\, Hall Lane\, Great Chishill\, Royston\, SG8 8SH\, United Kingdom
ORGANIZER;CN="Women's Institute":MAILTO:alisonwhite@sheepythings.com
END:VEVENT
BEGIN:VEVENT
DTSTART;TZID=Europe/London:20251118T190000
DTEND;TZID=Europe/London:20251118T210000
DTSTAMP:20260421T173843
CREATED:20250820T140250Z
LAST-MODIFIED:20250820T140436Z
UID:10000219-1763492400-1763499600@greatchishill.org.uk
SUMMARY:Women's Institute monthly meeting
DESCRIPTION:
URL:https://greatchishill.org.uk/event/womens-institute-monthly-meeting/2025-11-18/
LOCATION:Great Chishill Village Hall\, Hall Lane\, Great Chishill\, Royston\, SG8 8SH\, United Kingdom
ORGANIZER;CN="Women's Institute":MAILTO:alisonwhite@sheepythings.com
END:VEVENT
BEGIN:VEVENT
DTSTART;TZID=Europe/London:20251021T190000
DTEND;TZID=Europe/London:20251021T210000
DTSTAMP:20260421T173843
CREATED:20250820T140250Z
LAST-MODIFIED:20250820T140436Z
UID:10000218-1761073200-1761080400@greatchishill.org.uk
SUMMARY:Women's Institute monthly meeting
DESCRIPTION:
URL:https://greatchishill.org.uk/event/womens-institute-monthly-meeting/2025-10-21/
LOCATION:Great Chishill Village Hall\, Hall Lane\, Great Chishill\, Royston\, SG8 8SH\, United Kingdom
ORGANIZER;CN="Women's Institute":MAILTO:alisonwhite@sheepythings.com
END:VEVENT
BEGIN:VEVENT
DTSTART;TZID=Europe/London:20250916T190000
DTEND;TZID=Europe/London:20250916T210000
DTSTAMP:20260421T173843
CREATED:20250820T140250Z
LAST-MODIFIED:20250820T140436Z
UID:10000217-1758049200-1758056400@greatchishill.org.uk
SUMMARY:Women's Institute monthly meeting
DESCRIPTION:
URL:https://greatchishill.org.uk/event/womens-institute-monthly-meeting/2025-09-16/
LOCATION:Great Chishill Village Hall\, Hall Lane\, Great Chishill\, Royston\, SG8 8SH\, United Kingdom
ORGANIZER;CN="Women's Institute":MAILTO:alisonwhite@sheepythings.com
END:VEVENT
END:VCALENDAR