BEGIN:VCALENDAR
VERSION:2.0
PRODID:-//Great &amp; Little Chishill - ECPv6.15.20//NONSGML v1.0//EN
CALSCALE:GREGORIAN
METHOD:PUBLISH
X-ORIGINAL-URL:https://greatchishill.org.uk
X-WR-CALDESC:Events for Great &amp; Little Chishill
REFRESH-INTERVAL;VALUE=DURATION:PT1H
X-Robots-Tag:noindex
X-PUBLISHED-TTL:PT1H
BEGIN:VTIMEZONE
TZID:Europe/London
BEGIN:DAYLIGHT
TZOFFSETFROM:+0000
TZOFFSETTO:+0100
TZNAME:BST
DTSTART:20240331T010000
END:DAYLIGHT
BEGIN:STANDARD
TZOFFSETFROM:+0100
TZOFFSETTO:+0000
TZNAME:GMT
DTSTART:20241027T010000
END:STANDARD
BEGIN:DAYLIGHT
TZOFFSETFROM:+0000
TZOFFSETTO:+0100
TZNAME:BST
DTSTART:20250330T010000
END:DAYLIGHT
BEGIN:STANDARD
TZOFFSETFROM:+0100
TZOFFSETTO:+0000
TZNAME:GMT
DTSTART:20251026T010000
END:STANDARD
BEGIN:DAYLIGHT
TZOFFSETFROM:+0000
TZOFFSETTO:+0100
TZNAME:BST
DTSTART:20260329T010000
END:DAYLIGHT
BEGIN:STANDARD
TZOFFSETFROM:+0100
TZOFFSETTO:+0000
TZNAME:GMT
DTSTART:20261025T010000
END:STANDARD
BEGIN:DAYLIGHT
TZOFFSETFROM:+0000
TZOFFSETTO:+0100
TZNAME:BST
DTSTART:20270328T010000
END:DAYLIGHT
BEGIN:STANDARD
TZOFFSETFROM:+0100
TZOFFSETTO:+0000
TZNAME:GMT
DTSTART:20271031T010000
END:STANDARD
END:VTIMEZONE
BEGIN:VEVENT
DTSTART;TZID=Europe/London:20260405T180000
DTEND;TZID=Europe/London:20260405T190000
DTSTAMP:20260421T124717
CREATED:20250707T145544Z
LAST-MODIFIED:20250707T145544Z
UID:10000141-1775412000-1775415600@greatchishill.org.uk
SUMMARY:Service at the URC
DESCRIPTION:
URL:https://greatchishill.org.uk/event/service-at-the-urc/2026-04-05/
LOCATION:URC\, Barley Road\, Great Chishill\, SG8 8SB
CATEGORIES:Church
END:VEVENT
BEGIN:VEVENT
DTSTART;TZID=Europe/London:20260301T180000
DTEND;TZID=Europe/London:20260301T190000
DTSTAMP:20260421T124717
CREATED:20250707T145544Z
LAST-MODIFIED:20250707T145544Z
UID:10000140-1772388000-1772391600@greatchishill.org.uk
SUMMARY:Service at the URC
DESCRIPTION:
URL:https://greatchishill.org.uk/event/service-at-the-urc/2026-03-01/
LOCATION:URC\, Barley Road\, Great Chishill\, SG8 8SB
CATEGORIES:Church
END:VEVENT
BEGIN:VEVENT
DTSTART;TZID=Europe/London:20260228T193000
DTEND;TZID=Europe/London:20260228T223000
DTSTAMP:20260421T124717
CREATED:20260105T141331Z
LAST-MODIFIED:20260107T090935Z
UID:10000360-1772307000-1772317800@greatchishill.org.uk
SUMMARY:Sloe Gin Competition Prizegiving and Celebration
DESCRIPTION:For decades\, residents of the area have been making Sloe Gin (and other tipples) and holding an annual competition to find the best concoctions as a way of warding off the winter blues and raising a bit of money to look after the bells of St Swithuns. \nThe annual prize ceremony is always a raucous affair\, and all the competition entries will be available to taste alongside the normal bar and canape offerings. If you are entering one or more drinks into the competition\, then this evening is included in your entry fee\, those who simply wish to enjoy the offerings can pay £10. \nTo enter\, drop off your completed entry form at 19 Heydon Road by Mon 23rd Feb at the latest.
URL:https://greatchishill.org.uk/event/sloe-gin-competition-prizegiving-and-celebration/
LOCATION:URC\, Barley Road\, Great Chishill\, SG8 8SB
END:VEVENT
BEGIN:VEVENT
DTSTART;TZID=Europe/London:20260201T180000
DTEND;TZID=Europe/London:20260201T190000
DTSTAMP:20260421T124717
CREATED:20250707T145544Z
LAST-MODIFIED:20250707T145544Z
UID:10000139-1769968800-1769972400@greatchishill.org.uk
SUMMARY:Service at the URC
DESCRIPTION:
URL:https://greatchishill.org.uk/event/service-at-the-urc/2026-02-01/
LOCATION:URC\, Barley Road\, Great Chishill\, SG8 8SB
CATEGORIES:Church
END:VEVENT
BEGIN:VEVENT
DTSTART;TZID=Europe/London:20260104T180000
DTEND;TZID=Europe/London:20260104T190000
DTSTAMP:20260421T124717
CREATED:20250707T145544Z
LAST-MODIFIED:20250707T145544Z
UID:10000138-1767549600-1767553200@greatchishill.org.uk
SUMMARY:Service at the URC
DESCRIPTION:
URL:https://greatchishill.org.uk/event/service-at-the-urc/2026-01-04/
LOCATION:URC\, Barley Road\, Great Chishill\, SG8 8SB
CATEGORIES:Church
END:VEVENT
BEGIN:VEVENT
DTSTART;TZID=Europe/London:20251221T180000
DTEND;TZID=Europe/London:20251221T190000
DTSTAMP:20260421T124717
CREATED:20251220T120013Z
LAST-MODIFIED:20251220T120013Z
UID:10000359-1766340000-1766343600@greatchishill.org.uk
SUMMARY:Nine Lessons and Carols - With Chishill Voices and Handbells
DESCRIPTION:
URL:https://greatchishill.org.uk/event/nine-lessons-and-carols-with-chishill-voices-and-handbells/
LOCATION:URC\, Barley Road\, Great Chishill\, SG8 8SB
END:VEVENT
BEGIN:VEVENT
DTSTART;TZID=Europe/London:20251207T180000
DTEND;TZID=Europe/London:20251207T190000
DTSTAMP:20260421T124717
CREATED:20250707T145544Z
LAST-MODIFIED:20250707T145544Z
UID:10000137-1765130400-1765134000@greatchishill.org.uk
SUMMARY:Service at the URC
DESCRIPTION:
URL:https://greatchishill.org.uk/event/service-at-the-urc/2025-12-07/
LOCATION:URC\, Barley Road\, Great Chishill\, SG8 8SB
CATEGORIES:Church
END:VEVENT
BEGIN:VEVENT
DTSTART;TZID=Europe/London:20251102T180000
DTEND;TZID=Europe/London:20251102T190000
DTSTAMP:20260421T124717
CREATED:20250707T145544Z
LAST-MODIFIED:20250707T145544Z
UID:10000136-1762106400-1762110000@greatchishill.org.uk
SUMMARY:Service at the URC
DESCRIPTION:
URL:https://greatchishill.org.uk/event/service-at-the-urc/2025-11-02/
LOCATION:URC\, Barley Road\, Great Chishill\, SG8 8SB
CATEGORIES:Church
END:VEVENT
BEGIN:VEVENT
DTSTART;TZID=Europe/London:20251005T180000
DTEND;TZID=Europe/London:20251005T193000
DTSTAMP:20260421T124717
CREATED:20250820T150025Z
LAST-MODIFIED:20251001T125814Z
UID:10000135-1759687200-1759692600@greatchishill.org.uk
SUMMARY:Harvest Festival Evening Service and Supper at the URC
DESCRIPTION:Harvest Festival Evening Service  followed by The Village Harvest Festival Supper in the Schoolroom. Everyone really most welcome. \nWe are making a collection of dried foods and toiletries for Jimmy’s Night Shelter. \nEveryone is very welcome to join us for supper even if you don’t wish to attend the service. \nIf you would like to join us please let Tess know for numbers and dietary requirements\, we would be very grateful. tessgent@gmail.com
URL:https://greatchishill.org.uk/event/service-at-the-urc-2/
LOCATION:URC\, Barley Road\, Great Chishill\, SG8 8SB
CATEGORIES:Church
END:VEVENT
BEGIN:VEVENT
DTSTART;TZID=Europe/London:20250921T093000
DTEND;TZID=Europe/London:20250921T103000
DTSTAMP:20260421T124717
CREATED:20250820T150216Z
LAST-MODIFIED:20250820T150216Z
UID:10000280-1758447000-1758450600@greatchishill.org.uk
SUMMARY:Morning Service at the URC
DESCRIPTION:Led by Rev Sue Fender
URL:https://greatchishill.org.uk/event/morning-service-at-the-urc/
LOCATION:URC\, Barley Road\, Great Chishill\, SG8 8SB
END:VEVENT
BEGIN:VEVENT
DTSTART;TZID=Europe/London:20250907T180000
DTEND;TZID=Europe/London:20250907T190000
DTSTAMP:20260421T124717
CREATED:20250707T145544Z
LAST-MODIFIED:20250707T145544Z
UID:10000134-1757268000-1757271600@greatchishill.org.uk
SUMMARY:Service at the URC
DESCRIPTION:
URL:https://greatchishill.org.uk/event/service-at-the-urc/2025-09-07/
LOCATION:URC\, Barley Road\, Great Chishill\, SG8 8SB
CATEGORIES:Church
END:VEVENT
END:VCALENDAR